BEGIN:VCALENDAR
VERSION:2.0
PRODID:icalendar-ruby
CALSCALE:GREGORIAN
METHOD:PUBLISH
BEGIN:VEVENT
DTSTAMP:20260420T010033Z
UID:5-400046@victorybaptist278.tithelysetup2.com
DTSTART:20260913T173000Z
DTEND:20260913T183000Z
CLASS:PUBLIC
CREATED:20260418T040359
DESCRIPTION:Sunday Worship
LAST-MODIFIED:20260418T040359
LOCATION:
SUMMARY:Sunday Worship
URL;VALUE=URI:https://victorybaptist278.tithelysetup2.com/events/sunday-wor
 ship/2026-09-13
END:VEVENT
END:VCALENDAR
